BEGIN:VCALENDAR
VERSION:2.0
PRODID:-//GFL Zollikofen - ECPv6.15.15//NONSGML v1.0//EN
CALSCALE:GREGORIAN
METHOD:PUBLISH
X-WR-CALNAME:GFL Zollikofen
X-ORIGINAL-URL:https://gfl-zollikofen.ch
X-WR-CALDESC:Veranstaltungen für GFL Zollikofen
REFRESH-INTERVAL;VALUE=DURATION:PT1H
X-Robots-Tag:noindex
X-PUBLISHED-TTL:PT1H
BEGIN:VTIMEZONE
TZID:Europe/Zurich
BEGIN:DAYLIGHT
TZOFFSETFROM:+0100
TZOFFSETTO:+0200
TZNAME:CEST
DTSTART:20250330T010000
END:DAYLIGHT
BEGIN:STANDARD
TZOFFSETFROM:+0200
TZOFFSETTO:+0100
TZNAME:CET
DTSTART:20251026T010000
END:STANDARD
BEGIN:DAYLIGHT
TZOFFSETFROM:+0100
TZOFFSETTO:+0200
TZNAME:CEST
DTSTART:20260329T010000
END:DAYLIGHT
BEGIN:STANDARD
TZOFFSETFROM:+0200
TZOFFSETTO:+0100
TZNAME:CET
DTSTART:20261025T010000
END:STANDARD
BEGIN:DAYLIGHT
TZOFFSETFROM:+0100
TZOFFSETTO:+0200
TZNAME:CEST
DTSTART:20270328T010000
END:DAYLIGHT
BEGIN:STANDARD
TZOFFSETFROM:+0200
TZOFFSETTO:+0100
TZNAME:CET
DTSTART:20271031T010000
END:STANDARD
END:VTIMEZONE
BEGIN:VEVENT
DTSTART;TZID=Europe/Zurich:20260308T100000
DTEND;TZID=Europe/Zurich:20260308T120000
DTSTAMP:20260421T103943
CREATED:20251015T092437Z
LAST-MODIFIED:20260307T053716Z
UID:8063-1772964000-1772971200@gfl-zollikofen.ch
SUMMARY:Volksabstimmung vom 8. März 2026: unter anderem über die KLIMAFONDS-INITIATIVE
DESCRIPTION:
URL:https://gfl-zollikofen.ch/event/volksabstimmung_8-3-2026
LOCATION:Stimmlokale\, Aula Sekundarstufe / Schule Steinibach\, 3052 Zollikofen\, Schweiz
CATEGORIES:Veranstaltungen,Wahlen / Volksabstimmungen
END:VEVENT
END:VCALENDAR