BEGIN:VCALENDAR
VERSION:2.0
PRODID:-//GFL Zollikofen - ECPv6.15.15//NONSGML v1.0//EN
CALSCALE:GREGORIAN
METHOD:PUBLISH
X-WR-CALNAME:GFL Zollikofen
X-ORIGINAL-URL:https://gfl-zollikofen.ch
X-WR-CALDESC:Veranstaltungen für GFL Zollikofen
REFRESH-INTERVAL;VALUE=DURATION:PT1H
X-Robots-Tag:noindex
X-PUBLISHED-TTL:PT1H
BEGIN:VTIMEZONE
TZID:Europe/Zurich
BEGIN:DAYLIGHT
TZOFFSETFROM:+0100
TZOFFSETTO:+0200
TZNAME:CEST
DTSTART:20230326T010000
END:DAYLIGHT
BEGIN:STANDARD
TZOFFSETFROM:+0200
TZOFFSETTO:+0100
TZNAME:CET
DTSTART:20231029T010000
END:STANDARD
BEGIN:DAYLIGHT
TZOFFSETFROM:+0100
TZOFFSETTO:+0200
TZNAME:CEST
DTSTART:20240331T010000
END:DAYLIGHT
BEGIN:STANDARD
TZOFFSETFROM:+0200
TZOFFSETTO:+0100
TZNAME:CET
DTSTART:20241027T010000
END:STANDARD
BEGIN:DAYLIGHT
TZOFFSETFROM:+0100
TZOFFSETTO:+0200
TZNAME:CEST
DTSTART:20250330T010000
END:DAYLIGHT
BEGIN:STANDARD
TZOFFSETFROM:+0200
TZOFFSETTO:+0100
TZNAME:CET
DTSTART:20251026T010000
END:STANDARD
END:VTIMEZONE
BEGIN:VEVENT
DTSTART;TZID=Europe/Zurich:20240617T190000
DTEND;TZID=Europe/Zurich:20240617T210000
DTSTAMP:20260422T225146
CREATED:20240411T064241Z
LAST-MODIFIED:20240411T064444Z
UID:6807-1718650800-1718658000@gfl-zollikofen.ch
SUMMARY:Offene GFL-Sitzung
DESCRIPTION:
URL:https://gfl-zollikofen.ch/event/offene-gfl-vorstands-sitzung-17-06-2024
LOCATION:Gemeindeverwaltung\, Sitzungszimmer\, Wahlackerstrasse 25\, Zollikofen\, BE\, 3052
CATEGORIES:Veranstaltungen
END:VEVENT
END:VCALENDAR